BEGIN:VCALENDAR
VERSION:2.0
PRODID:Events Booking
BEGIN:VEVENT
UID:69ecd823435e8
SUMMARY:Seminario – Taller Proceso de Atención de Enfermería
DESCRIPTION:Inscribirse
LOCATION:Urbanización El Bosque\, Avenida 4 10N-61\, Cúcuta\, Colombia
DTSTART:20220324T130000Z
DTEND:20220324T230000Z
DTSTAMP:20260425T100507Z
ORGANIZER;CN=UDES:MAILTO:eventos@udes.edu.co
GEO:7.91127;-72.501722
X-APPLE-STRUCTURED-LOCATION;VALUE=URI;X-ADDRESS=Urbanización El Bosque\, A
 venida 4 10N-61\, Cúcuta\, Colombia;X-APPLE-RADIUS=72;X-TITLE=Cúcuta:7.9
 1127;-72.501722
END:VEVENT
BEGIN:VEVENT
UID:69ecd823436d9
SUMMARY: Congreso Internacional: El Ingeniero Industrial Visionario de un F
 uturo Sostenible
DESCRIPTION:
LOCATION:Urbanización El Bosque\, Avenida 4 10N-61\, Cúcuta\, Colombia
DTSTART:20211019T130000Z
DTEND:20211022T230000Z
DTSTAMP:20260425T100507Z
ORGANIZER;CN=UDES:MAILTO:eventos@udes.edu.co
GEO:7.91127;-72.501722
X-APPLE-STRUCTURED-LOCATION;VALUE=URI;X-ADDRESS=Urbanización El Bosque\, A
 venida 4 10N-61\, Cúcuta\, Colombia;X-APPLE-RADIUS=72;X-TITLE=Cúcuta:7.9
 1127;-72.501722
END:VEVENT
BEGIN:VEVENT
UID:69ecd823436fd
SUMMARY:III CONVERSATORIO LATINOAMERICANO DE CAMBIO CLIMÁTICO
DESCRIPTION:La naturaleza es tan sabia\, que nos enseña a vivir mejor\, po
 r ejemplo\, el proverbios Persa \"La paciencia es un árbol de raíces ama
 rgas\, pero da frutos muy dulces\" mostrándonos un valor que se desarroll
 a cada día y que debemos utilizar en comunidad.
 Inscribirse
 Después 
 de la Insripción recibira un correo para poder ingresar al evento.
 &nbs
 p\;
LOCATION:Urbanización El Bosque\, Avenida 4 10N-61\, Cúcuta\, Colombia
DTSTART:20211012T230000Z
DTEND:20211013T010000Z
DTSTAMP:20260425T100507Z
ORGANIZER;CN=UDES:MAILTO:eventos@udes.edu.co
GEO:7.91127;-72.501722
X-APPLE-STRUCTURED-LOCATION;VALUE=URI;X-ADDRESS=Urbanización El Bosque\, A
 venida 4 10N-61\, Cúcuta\, Colombia;X-APPLE-RADIUS=72;X-TITLE=Cúcuta:7.9
 1127;-72.501722
END:VEVENT
BEGIN:VEVENT
UID:69ecd8234371a
SUMMARY:CONFERENCIA “LA EXPERIENCIA DE UN BUEN SERVICIO”
DESCRIPTION:El participante podrá obtener las herramientas para definir el
  inicio\, desarrollo y seguimiento de la experiencia de compra en sus clie
 ntes\; aprendiendo a conocer\, identificar y manejar las expectativas inna
 tas de nuestros clientes\, así como las contenidas en nuestra promesa de 
 valor\, para contrastarla con las percepciones reales del producto o servi
 cio consumido y de esta manera contribuir en la mejora de sus puntos clave
  en su relación con el mercado.
 Inscribirse
DTSTART:20210927T230000Z
DTEND:20210928T010000Z
DTSTAMP:20260425T100507Z
ORGANIZER;CN=UDES:MAILTO:eventos@udes.edu.co
END:VEVENT
END:VCALENDAR