BEGIN:VCALENDAR
VERSION:2.0
PRODID:Events Booking
BEGIN:VEVENT
UID:69ecf0742dc49
SUMMARY:Jornada de Seguimiento a la Gestión de Documentos
DESCRIPTION:Contacto: erojas@udes.edu.co&nbsp\;
LOCATION:Calle 70 # 5 - 210\, Bucaramanga\, Colombia
DTSTART:20210625T130000Z
DTEND:20210625T230000Z
DTSTAMP:20260425T114852Z
ORGANIZER;CN=UDES:MAILTO:eventos@udes.edu.co
GEO:7.105606;-73.095111
X-APPLE-STRUCTURED-LOCATION;VALUE=URI;X-ADDRESS=Calle 70 # 5 - 210\, Bucara
 manga\, Colombia;X-APPLE-RADIUS=72;X-TITLE=Bucaramanga:7.105606;-73.095111
END:VEVENT
END:VCALENDAR