BEGIN:VCALENDAR
VERSION:2.0
PRODID:Events Booking
BEGIN:VEVENT
UID:69ecf07a9591e
SUMMARY:Teduca 2023 'Congreso internacional en Tecnología y Educación'
DESCRIPTION:
LOCATION:Calle 70 # 5 - 210\, Bucaramanga\, Colombia
DTSTART:20231123T050000Z
DTEND:20231124T050000Z
DTSTAMP:20231117T192939Z
ORGANIZER;CN=UDES:MAILTO:eventos@udes.edu.co
GEO:7.105606;-73.095111
X-APPLE-STRUCTURED-LOCATION;VALUE=URI;X-ADDRESS=Calle 70 # 5 - 210\, Bucara
 manga\, Colombia;X-APPLE-RADIUS=72;X-TITLE=Bucaramanga:7.105606;-73.095111
END:VEVENT
BEGIN:VEVENT
UID:69ecf07a959f7
SUMMARY:¡Postúlate como ponente en el Congreso Internacional de Tecnolog
 ía y Educación - Teduca 2023! 
DESCRIPTION:
LOCATION:Calle 70 # 5 - 210\, Bucaramanga\, Colombia
DTSTART:20230701T050000Z
DTEND:20230701T050000Z
DTSTAMP:20230617T012419Z
ORGANIZER;CN=UDES:MAILTO:eventos@udes.edu.co
GEO:7.105606;-73.095111
X-APPLE-STRUCTURED-LOCATION;VALUE=URI;X-ADDRESS=Calle 70 # 5 - 210\, Bucara
 manga\, Colombia;X-APPLE-RADIUS=72;X-TITLE=Bucaramanga:7.105606;-73.095111
END:VEVENT
BEGIN:VEVENT
UID:69ecf07a95a1b
SUMMARY:Teduca: día 2
DESCRIPTION:
LOCATION:Calle 70 # 5 - 210\, Bucaramanga\, Colombia
DTSTART:20221202T130000Z
DTEND:20221202T230000Z
DTSTAMP:20221125T014825Z
ORGANIZER;CN=UDES:MAILTO:eventos@udes.edu.co
GEO:7.105606;-73.095111
X-APPLE-STRUCTURED-LOCATION;VALUE=URI;X-ADDRESS=Calle 70 # 5 - 210\, Bucara
 manga\, Colombia;X-APPLE-RADIUS=72;X-TITLE=Bucaramanga:7.105606;-73.095111
END:VEVENT
BEGIN:VEVENT
UID:69ecf07a95a44
SUMMARY:Teduca: día 1
DESCRIPTION:
LOCATION:Calle 70 # 5 - 210\, Bucaramanga\, Colombia
DTSTART:20221201T123000Z
DTEND:20221202T003000Z
DTSTAMP:20221125T014825Z
ORGANIZER;CN=UDES:MAILTO:eventos@udes.edu.co
GEO:7.105606;-73.095111
X-APPLE-STRUCTURED-LOCATION;VALUE=URI;X-ADDRESS=Calle 70 # 5 - 210\, Bucara
 manga\, Colombia;X-APPLE-RADIUS=72;X-TITLE=Bucaramanga:7.105606;-73.095111
END:VEVENT
END:VCALENDAR